BEGIN:VCALENDAR
PRODID:-//eluceo/ical//2.0/EN
VERSION:2.0
CALSCALE:GREGORIAN
BEGIN:VEVENT
UID:cdf-event-eda80f5b-81f4-40b6-a90f-668b20634bb3
DTSTAMP:20260425T161251Z
SUMMARY:Expectations and deviations\; rules and variations
DESCRIPTION:Other informations:\n- Speaker(s): Petra Sijpesteijn\n- Guest l
 ecturer: Righting wrongs: justice and redress in medieval Egypt\n- See als
 o:\n-- Jean-Luc Fournet\, chair Written Culture in Late Antiquity and Byza
 ntine Papyrology\n- Access: Open to all\, subject to availability\n- See t
 he event webpage: https://www.college-de-france.fr/en/agenda/guest-lecture
 r/righting-wrongs-justice-and-redress-in-medieval-egypt/expectations-and-d
 eviations-rules-and-variations
DTSTART:20260623T130000Z
DTEND:20260623T140000Z
LOCATION:Salle 2\, Site Marcelin Berthelot
END:VEVENT
END:VCALENDAR
