BEGIN:VCALENDAR
PRODID:-//eluceo/ical//2.0/EN
VERSION:2.0
CALSCALE:GREGORIAN
BEGIN:VEVENT
UID:cdf-event-16279752-a71b-4709-b1f7-0b02232a3903
DTSTAMP:20260425T142421Z
SUMMARY:The Josephson junction and the double potential well
DESCRIPTION:Other informations:\n- Speaker(s): Jean Dalibard\n- Lecture: Co
 upled quantum fluids and Josephson junctions\n- See also:\n-- Jean Dalibar
 d\, chair Atoms and Radiation\n- Access: Open to all\, subject to availabi
 lity\n- See the event webpage: https://www.college-de-france.fr/en/agenda/
 lecture/quantum-gas-mixing/the-josephson-junction-and-the-double-potential
 -well
DTSTART:20260522T073000Z
DTEND:20260522T090000Z
LOCATION:Amphithéâtre Maurice Halbwachs\, Site Marcelin Berthelot
END:VEVENT
BEGIN:VEVENT
UID:cdf-event-84741c64-b64e-44ee-b2e7-c4ebaa251f70
DTSTAMP:20260425T142421Z
SUMMARY:Josephson junction dynamics
DESCRIPTION:Other informations:\n- Speaker(s): Jean Dalibard\n- Lecture: Co
 upled quantum fluids and Josephson junctions\n- See also:\n-- Jean Dalibar
 d\, chair Atoms and Radiation\n- Access: Open to all\, subject to availabi
 lity\n- See the event webpage: https://www.college-de-france.fr/en/agenda/
 lecture/coupled-quantum-fluids-and-josephson-junctions/josephson-junction-
 dynamics
DTSTART:20260529T073000Z
DTEND:20260529T090000Z
LOCATION:Amphithéâtre Maurice Halbwachs\, Site Marcelin Berthelot
END:VEVENT
BEGIN:VEVENT
UID:cdf-event-07683074-9316-4e15-bd6c-cb238c43851f
DTSTAMP:20260425T142421Z
SUMMARY:The alternative Josephson effect and Shapiro resonances
DESCRIPTION:Other informations:\n- Speaker(s): Jean Dalibard\n- Lecture: Co
 upled quantum fluids and Josephson junctions\n- See also:\n-- Jean Dalibar
 d\, chair Atoms and Radiation\n- Access: Open to all\, subject to availabi
 lity\n- See the event webpage: https://www.college-de-france.fr/en/agenda/
 lecture/coupled-quantum-fluids-and-josephson-junctions/the-alternative-jos
 ephson-effect-and-shapiro-resonances
DTSTART:20260605T073000Z
DTEND:20260605T090000Z
LOCATION:Amphithéâtre Maurice Halbwachs\, Site Marcelin Berthelot
END:VEVENT
BEGIN:VEVENT
UID:cdf-event-a7c9b082-be0a-4f48-9997-b550d3310a30
DTSTAMP:20260425T142421Z
SUMMARY:Quantum gas mixing (4)
DESCRIPTION:Other informations:\n- Speaker(s): Jean Dalibard\n- Lecture: Co
 upled quantum fluids and Josephson junctions\n- See also:\n-- Jean Dalibar
 d\, chair Atoms and Radiation\n- Access: Open to all\, subject to availabi
 lity\n- See the event webpage: https://www.college-de-france.fr/en/agenda/
 lecture/coupled-quantum-fluids-and-josephson-junctions/quantum-gas-mixing-
 4
DTSTART:20260612T073000Z
DTEND:20260612T090000Z
LOCATION:Amphithéâtre Maurice Halbwachs\, Site Marcelin Berthelot
END:VEVENT
BEGIN:VEVENT
UID:cdf-event-bc522197-edc3-4d5b-9ee7-9249dae7627a
DTSTAMP:20260425T142421Z
SUMMARY:Fragmented condensates
DESCRIPTION:Other informations:\n- Speaker(s): Jean Dalibard\n- Lecture: Co
 upled quantum fluids and Josephson junctions\n- See also:\n-- Jean Dalibar
 d\, chair Atoms and Radiation\n- Access: Open to all\, subject to availabi
 lity\n- See the event webpage: https://www.college-de-france.fr/en/agenda/
 lecture/coupled-quantum-fluids-and-josephson-junctions/fragmented-condensa
 tes
DTSTART:20260619T073000Z
DTEND:20260619T090000Z
LOCATION:Amphithéâtre Guillaume Budé\, Site Marcelin Berthelot
END:VEVENT
BEGIN:VEVENT
UID:cdf-event-d1cdd72e-f795-4ae6-aa91-67d6b9824b35
DTSTAMP:20260425T142421Z
SUMMARY:From superconducting SQUID to atomic SQUID
DESCRIPTION:Other informations:\n- Speaker(s): Jean Dalibard\n- Lecture: Co
 upled quantum fluids and Josephson junctions\n- See also:\n-- Jean Dalibar
 d\, chair Atoms and Radiation\n- Access: Open to all\, subject to availabi
 lity\n- See the event webpage: https://www.college-de-france.fr/en/agenda/
 lecture/coupled-quantum-fluids-and-josephson-junctions/from-superconductin
 g-squid-to-atomic-squid
DTSTART:20260626T073000Z
DTEND:20260626T090000Z
LOCATION:Amphithéâtre Guillaume Budé\, Site Marcelin Berthelot
END:VEVENT
END:VCALENDAR
