BEGIN:VCALENDAR
PRODID:-//eluceo/ical//2.0/EN
VERSION:2.0
CALSCALE:GREGORIAN
BEGIN:VEVENT
UID:cdf-event-7ee5c4ac-b0af-40b0-97a0-10e5e302945b
DTSTAMP:20260421T222346Z
SUMMARY:Revolution\, community and hope
DESCRIPTION:Other informations:\n- Speaker(s): Lea Ypi\n- Lecture: Critical
  reason and the legacy of the Enlightenment: rethinking socialism in the X
 XIst century\n- See also:\n-- Lea Ypi\, chair The Invention of Europe thro
 ugh languages and cultures\n- Access: Open to all\, subject to availabilit
 y\n- See the event webpage: https://www.college-de-france.fr/en/agenda/lec
 ture/critical-reason-and-the-legacy-of-the-enlightenment-rethinking-social
 ism-in-the-xxist-century/revolution-community-and-hope
DTSTART:20260506T150000Z
DTEND:20260506T160000Z
LOCATION:Amphithéâtre Marguerite de Navarre\, Site Marcelin Berthelot
END:VEVENT
END:VCALENDAR
