BEGIN:VCALENDAR
PRODID:-//eluceo/ical//2.0/EN
VERSION:2.0
CALSCALE:GREGORIAN
BEGIN:VEVENT
UID:cdf-event-cdd37955-9bc1-4fb9-b5fc-373642a587a0
DTSTAMP:20260422T070452Z
SUMMARY:Commitment
DESCRIPTION:Other informations:\n- Speaker(s): Didier Fassin\n- Lecture: Fo
 ucault's presence\n- See also:\n-- Didier Fassin\, chair Moral Questions a
 nd Political Issues in Contemporary Societies\n- Access: High turnout! Ple
 ase arrive 45 mins before the start. Open to all\, subject to availability
 \n- See the event webpage: https://www.college-de-france.fr/en/agenda/lect
 ure/foucault-presence/commitment
DTSTART:20260602T120000Z
DTEND:20260602T130000Z
LOCATION:Amphithéâtre Marguerite de Navarre\, Site Marcelin Berthelot
END:VEVENT
END:VCALENDAR
