BEGIN:VCALENDAR
PRODID:-//eluceo/ical//2.0/EN
VERSION:2.0
CALSCALE:GREGORIAN
BEGIN:VEVENT
UID:cdf-event-56f1b938-1128-4cf6-b102-b7f9d9c5add8
DTSTAMP:20260420T163728Z
SUMMARY:Folie
DESCRIPTION:Other informations:\n- Speaker(s): Didier Fassin\n- Lecture: Fo
 ucault's presence\n- See also:\n-- Didier Fassin\, chair Moral Questions a
 nd Political Issues in Contemporary Societies\n- Access: High turnout! Ple
 ase arrive 45 mins before the start. Open to all\, subject to availability
 \n- See the event webpage: https://www.college-de-france.fr/en/agenda/lect
 ure/foucault-presence/folie
DTSTART:20260512T120000Z
DTEND:20260512T130000Z
LOCATION:Amphithéâtre Marguerite de Navarre\, Site Marcelin Berthelot
END:VEVENT
END:VCALENDAR
