BEGIN:VCALENDAR
PRODID:-//eluceo/ical//2.0/EN
VERSION:2.0
CALSCALE:GREGORIAN
BEGIN:VEVENT
UID:cdf-event-29a66cd7-92a2-4db7-bb5c-df61403a5c41
DTSTAMP:20260421T154938Z
SUMMARY:Humanism
DESCRIPTION:Other informations:\n- Speaker(s): Didier Fassin\n- Lecture: Fo
 ucault's presence\n- See also:\n-- Didier Fassin\, chair Moral Questions a
 nd Political Issues in Contemporary Societies\n- Access: Open to all\, sub
 ject to availability\n- See the event webpage: https://www.college-de-fran
 ce.fr/en/agenda/lecture/foucault-presence/humanism
DTSTART:20260519T131500Z
DTEND:20260519T141500Z
LOCATION:Amphithéâtre Marguerite de Navarre\, Site Marcelin Berthelot
END:VEVENT
END:VCALENDAR
