BEGIN:VCALENDAR
PRODID:-//eluceo/ical//2.0/EN
VERSION:2.0
CALSCALE:GREGORIAN
BEGIN:VEVENT
UID:cdf-event-103120e6-a03b-41f7-ab11-4234073891f4
DTSTAMP:20260420T182034Z
SUMMARY:Policy
DESCRIPTION:Other informations:\n- Speaker(s): Didier Fassin\n- Lecture: Fo
 ucault's presence\n- See also:\n-- Didier Fassin\, chair Moral Questions a
 nd Political Issues in Contemporary Societies\n- Access: Open to all\, sub
 ject to availability\n- See the event webpage: https://www.college-de-fran
 ce.fr/en/agenda/lecture/foucault-presence/policy
DTSTART:20260526T131500Z
DTEND:20260526T141500Z
LOCATION:Amphithéâtre Marguerite de Navarre\, Site Marcelin Berthelot
END:VEVENT
END:VCALENDAR
