BEGIN:VCALENDAR
PRODID:-//eluceo/ical//2.0/EN
VERSION:2.0
CALSCALE:GREGORIAN
BEGIN:VEVENT
UID:cdf-event-a483a962-d456-45aa-b91c-53ae1edf6b4a
DTSTAMP:20260420T182034Z
SUMMARY:Prison
DESCRIPTION:Other informations:\n- Speaker(s): Didier Fassin\n- Lecture: Fo
 ucault's presence\n- See also:\n-- Didier Fassin\, chair Moral Questions a
 nd Political Issues in Contemporary Societies\n- Access: Open to all\, sub
 ject to availability\n- See the event webpage: https://www.college-de-fran
 ce.fr/en/agenda/lecture/foucault-presence/prison
DTSTART:20260512T131500Z
DTEND:20260512T141500Z
LOCATION:Amphithéâtre Marguerite de Navarre\, Site Marcelin Berthelot
END:VEVENT
END:VCALENDAR
