BEGIN:VCALENDAR
PRODID:-//eluceo/ical//2.0/EN
VERSION:2.0
CALSCALE:GREGORIAN
BEGIN:VEVENT
UID:cdf-event-1da754ea-85ed-4cd2-9a5d-0b0aec59a5cd
DTSTAMP:20260423T150451Z
SUMMARY:Review
DESCRIPTION:Other informations:\n- Speaker(s): Didier Fassin\n- Lecture: Fo
 ucault's presence\n- See also:\n-- Didier Fassin\, chair Moral Questions a
 nd Political Issues in Contemporary Societies\n- Access: Open to all\, sub
 ject to availability\n- See the event webpage: https://www.college-de-fran
 ce.fr/en/agenda/lecture/foucault-presence/review
DTSTART:20260505T131500Z
DTEND:20260505T141500Z
LOCATION:Amphithéâtre Marguerite de Navarre\, Site Marcelin Berthelot
END:VEVENT
END:VCALENDAR
