BEGIN:VCALENDAR
PRODID:-//eluceo/ical//2.0/EN
VERSION:2.0
CALSCALE:GREGORIAN
BEGIN:VEVENT
UID:cdf-event-42ff6df1-df7d-4846-aa35-142b4ffeda87
DTSTAMP:20260423T194635Z
SUMMARY:Towards a functional ecology of landscapes
DESCRIPTION:Other informations:\n- Speaker(s): Sandra Lavorel\n- Lecture: F
 unctional ecology to understand ecosystem dynamics in a changing world\n- 
 See also:\n-- Sandra Lavorel\, chair Biodiversity and Ecosystems\n- Access
 : Open to all\, subject to availability\n- See the event webpage: https://
 www.college-de-france.fr/en/agenda/lecture/functional-ecology-to-understan
 d-ecosystem-dynamics-in-changing-world/towards-functional-ecology-of-lands
 capes
DTSTART:20260526T120000Z
DTEND:20260526T133000Z
LOCATION:Amphithéâtre Maurice Halbwachs\, Site Marcelin Berthelot
END:VEVENT
END:VCALENDAR
