BEGIN:VCALENDAR
PRODID:-//eluceo/ical//2.0/EN
VERSION:2.0
CALSCALE:GREGORIAN
BEGIN:VEVENT
UID:cdf-event-53fde320-6e79-4189-88c0-4249db5eb371
DTSTAMP:20260421T191939Z
SUMMARY:Reactive and intermediate species (1)
DESCRIPTION:Other informations:\n- Speaker(s): Louis Fensterbank\n- Lecture
 : Reactive and intermediate species\n- See also:\n-- Louis Fensterbank\, c
 hair Activations in Molecular Chemistry\n- Access: Open to all\, subject t
 o availability\n- See the event webpage: https://www.college-de-france.fr/
 en/agenda/lecture/reactive-and-intermediate-species/reactive-and-intermedi
 ate-species-1
DTSTART:20260318T083000Z
DTEND:20260318T100000Z
LOCATION:Salle 5\, Site Marcelin Berthelot
END:VEVENT
BEGIN:VEVENT
UID:cdf-event-99533505-0a71-451d-b301-9b150b4da922
DTSTAMP:20260421T191939Z
SUMMARY:Reactive and intermediate species (2)
DESCRIPTION:Other informations:\n- Speaker(s): Louis Fensterbank\n- Lecture
 : Reactive and intermediate species\n- See also:\n-- Louis Fensterbank\, c
 hair Activations in Molecular Chemistry\n- Access: Open to all\, subject t
 o availability\n- See the event webpage: https://www.college-de-france.fr/
 en/agenda/lecture/reactive-and-intermediate-species/reactive-and-intermedi
 ate-species-2
DTSTART:20260325T083000Z
DTEND:20260325T094500Z
LOCATION:Salle 5\, Site Marcelin Berthelot
END:VEVENT
BEGIN:VEVENT
UID:cdf-event-00cd7170-027a-43c4-853f-f5aa8006c6aa
DTSTAMP:20260421T191939Z
SUMMARY:Reactive and intermediate species (3)
DESCRIPTION:Other informations:\n- Speaker(s): Louis Fensterbank\n- Lecture
 : Reactive and intermediate species\n- See also:\n-- Louis Fensterbank\, c
 hair Activations in Molecular Chemistry\n- Access: Open to all\, subject t
 o availability\n- See the event webpage: https://www.college-de-france.fr/
 en/agenda/lecture/reactive-and-intermediate-species/reactive-and-intermedi
 ate-species-3
DTSTART:20260401T073000Z
DTEND:20260401T090000Z
LOCATION:Salle 5\, Site Marcelin Berthelot
END:VEVENT
BEGIN:VEVENT
UID:cdf-event-1cc8296c-cd80-446b-8b4c-8a8ccd3707d0
DTSTAMP:20260421T191939Z
SUMMARY:Reactive and intermediate species (4)
DESCRIPTION:Other informations:\n- Speaker(s): Louis Fensterbank\n- Lecture
 : Reactive and intermediate species\n- See also:\n-- Louis Fensterbank\, c
 hair Activations in Molecular Chemistry\n- Access: Open to all\, subject t
 o availability\n- See the event webpage: https://www.college-de-france.fr/
 en/agenda/lecture/reactive-and-intermediate-species/reactive-and-intermedi
 ate-species-4
DTSTART:20260408T073000Z
DTEND:20260408T084500Z
LOCATION:Salle 5\, Site Marcelin Berthelot
END:VEVENT
BEGIN:VEVENT
UID:cdf-event-6194e74e-8d0b-4364-a99a-e2bbe524290b
DTSTAMP:20260421T191939Z
SUMMARY:Reactive and intermediate species (5)
DESCRIPTION:Other informations:\n- Speaker(s): Louis Fensterbank\n- Lecture
 : Reactive and intermediate species\n- See also:\n-- Louis Fensterbank\, c
 hair Activations in Molecular Chemistry\n- Access: Open to all\, subject t
 o availability\n- See the event webpage: https://www.college-de-france.fr/
 en/agenda/lecture/reactive-and-intermediate-species/reactive-and-intermedi
 ate-species-5
DTSTART:20260415T073000Z
DTEND:20260415T090000Z
LOCATION:Salle 5\, Site Marcelin Berthelot
END:VEVENT
BEGIN:VEVENT
UID:cdf-event-95dec0b0-538d-414b-a8ee-effbc12054f4
DTSTAMP:20260421T191939Z
SUMMARY:Reactive and intermediate species (6)
DESCRIPTION:Other informations:\n- Speaker(s): Louis Fensterbank\n- Lecture
 : Reactive and intermediate species\n- See also:\n-- Louis Fensterbank\, c
 hair Activations in Molecular Chemistry\n- Access: Open to all\, subject t
 o availability\n- See the event webpage: https://www.college-de-france.fr/
 en/agenda/lecture/reactive-and-intermediate-species/reactive-and-intermedi
 ate-species-6
DTSTART:20260506T073000Z
DTEND:20260506T090000Z
LOCATION:Salle 5\, Site Marcelin Berthelot
END:VEVENT
END:VCALENDAR
