BEGIN:VCALENDAR
PRODID:-//eluceo/ical//2.0/EN
VERSION:2.0
CALSCALE:GREGORIAN
BEGIN:VEVENT
UID:cdf-event-ba5ca2c6-2bf7-4eeb-aa59-4f78b5d77d0f
DTSTAMP:20260423T022047Z
SUMMARY:The body of law\, "Corpus Iuris". Imagining law through bodily meta
 phors in Roman legal literature (2) (10)
DESCRIPTION:Other informations:\n- Speaker(s): Dario Mantovani\n- Lecture: 
 The body of law\, "Corpus Iuris". Imagining law through bodily metaphors i
 n Roman legal literature (2)\n- See also:\n-- Dario Mantovani\, chair Law\
 , Culture and Society in Ancient Rome\n- Access: Open to all\, subject to 
 availability\n- See the event webpage: https://www.college-de-france.fr/en
 /agenda/lecture/the-body-of-law-corpus-iuris-imagining-law-through-bodily-
 metaphors-in-roman-legal-literature-2/the-body-of-law-corpus-iuris-imagini
 ng-law-through-bodily-metaphors-in-roman-legal-literature-2-10
DTSTART:20260527T123000Z
DTEND:20260527T133000Z
LOCATION:Amphithéâtre Maurice Halbwachs\, Site Marcelin Berthelot
END:VEVENT
END:VCALENDAR
