BEGIN:VCALENDAR
PRODID:-//eluceo/ical//2.0/EN
VERSION:2.0
CALSCALE:GREGORIAN
BEGIN:VEVENT
UID:cdf-event-e48cb55e-69eb-4b62-bc30-337071066532
DTSTAMP:20260421T205306Z
SUMMARY:1) Documents relating to the Sassanid presence in Central Asia\; 2)
  The historiographical myth of underground Mithraism in Iran (7)
DESCRIPTION:Other informations:\n- Speaker(s): Frantz Grenet\, Touraj Darya
 ee\, Nina Mazhjoo\n- Seminar: Mithra in dialogue\n- See also:\n-- Frantz G
 renet\, chair History and Cultures of Pre-Islamic Central Asia\n- Access: 
 Open to all\, subject to availability\n- See the event webpage: https://ww
 w.college-de-france.fr/en/agenda/seminar/mithra-in-dialogue/1-documents-re
 lating-to-the-sassanid-presence-in-central-asia-2-the-historiographical-my
 th-of-2
DTSTART:20260616T080000Z
DTEND:20260616T093000Z
LOCATION:Amphithéâtre Guillaume Budé\, Site Marcelin Berthelot
END:VEVENT
END:VCALENDAR
