BEGIN:VCALENDAR
PRODID:-//eluceo/ical//2.0/EN
VERSION:2.0
CALSCALE:GREGORIAN
BEGIN:VEVENT
UID:cdf-event-a06c4085-2cea-4340-bb39-3fa2c892e165
DTSTAMP:20260423T180648Z
SUMMARY:'Iudicium iudicate'. Metaphorical impossibility
DESCRIPTION:Other informations:\n- Speaker(s): Carlo Ossola\n- Seminar: Put
  Another Way: What Is Metaphor?\n- See also:\n-- Dario Mantovani\, chair L
 aw\, Culture and Society in Ancient Rome\n- Access: Open to all\, subject 
 to availability\n- See the event webpage: https://www.college-de-france.fr
 /en/agenda/seminar/put-another-way-what-is-metaphor/iudicium-iudicate-meta
 phorical-impossibility
DTSTART:20260603T140000Z
DTEND:20260603T160000Z
LOCATION:Amphithéâtre Maurice Halbwachs\, Site Marcelin Berthelot
END:VEVENT
END:VCALENDAR
