BEGIN:VCALENDAR
PRODID:-//eluceo/ical//2.0/EN
VERSION:2.0
CALSCALE:GREGORIAN
BEGIN:VEVENT
UID:cdf-event-03a7be22-3701-4f75-aa8b-e0f74b6ef2d1
DTSTAMP:20260423T131425Z
SUMMARY:Sensitive metaphor and technical metaphor in private law
DESCRIPTION:Other informations:\n- Speaker(s): Michel Boudot\n- Seminar: Pu
 t Another Way: What Is Metaphor?\n- See also:\n-- Dario Mantovani\, chair 
 Law\, Culture and Society in Ancient Rome\n- Access: Open to all\, subject
  to availability\n- See the event webpage: https://www.college-de-france.f
 r/en/agenda/seminar/put-another-way-what-is-metaphor/sensitive-metaphor-an
 d-technical-metaphor-in-private-law
DTSTART:20260520T140000Z
DTEND:20260520T160000Z
LOCATION:Salle 2\, Site Marcelin Berthelot
END:VEVENT
END:VCALENDAR
