BEGIN:VCALENDAR
PRODID:-//eluceo/ical//2.0/EN
VERSION:2.0
CALSCALE:GREGORIAN
BEGIN:VEVENT
UID:cdf-event-0e0d59da-3f6e-4131-acab-be54677d3ef0
DTSTAMP:20260420T205251Z
SUMMARY:Stereochemical journey through carbocations and their precursors
DESCRIPTION:Other informations:\n- Speaker(s): Jérôme Lacour\n- Seminar: 
 Reactive and intermediate species\n- See also:\n-- Louis Fensterbank\, cha
 ir Activations in Molecular Chemistry\n- Access: Open to all\, subject to 
 availability\n- See the event webpage: https://www.college-de-france.fr/en
 /agenda/seminar/reactive-and-intermediate-species/stereochemical-journey-t
 hrough-carbocations-and-their-precursors
DTSTART:20260318T100000Z
DTEND:20260318T110000Z
LOCATION:Salle 5\, Site Marcelin Berthelot
END:VEVENT
BEGIN:VEVENT
UID:cdf-event-2c53c511-1f91-4eac-8e25-c46c99401cb1
DTSTAMP:20260420T205251Z
SUMMARY:Organo(di)metal reagents for organic synthesis. Generation of carba
 nions by extrusion of N2 : history and applications
DESCRIPTION:Other informations:\n- Speaker(s): Alejandro Perez Luna &amp\; 
 Clément Chauvier\n- Seminar: Reactive and intermediate species\n- See als
 o:\n-- Louis Fensterbank\, chair Activations in Molecular Chemistry\n- Acc
 ess: Open to all\, subject to availability\n- See the event webpage: https
 ://www.college-de-france.fr/en/agenda/seminar/reactive-and-intermediate-sp
 ecies/organodimetal-reagents-for-organic-synthesis-generation-of-carbanion
 s-by-extrusion-of-n2-history-and
DTSTART:20260325T094500Z
DTEND:20260325T111500Z
LOCATION:Salle 5\, Site Marcelin Berthelot
END:VEVENT
BEGIN:VEVENT
UID:cdf-event-c0be22d4-dde8-4e38-befd-0b97254a2083
DTSTAMP:20260420T205251Z
SUMMARY:N-heterocyclic carbenes NHC : towards organic super-reducers
DESCRIPTION:Other informations:\n- Speaker(s): Julie Broggi\n- Seminar: Rea
 ctive and intermediate species\n- See also:\n-- Louis Fensterbank\, chair 
 Activations in Molecular Chemistry\n- Access: Open to all\, subject to ava
 ilability\n- See the event webpage: https://www.college-de-france.fr/en/ag
 enda/seminar/reactive-and-intermediate-species/heterocyclic-carbenes-nhc-t
 owards-organic-super-reducers
DTSTART:20260401T090000Z
DTEND:20260401T100000Z
LOCATION:Salle 5\, Site Marcelin Berthelot
END:VEVENT
BEGIN:VEVENT
UID:cdf-event-ab83f314-194f-4de3-b520-acf291699151
DTSTAMP:20260420T205251Z
SUMMARY:" Rhodium Nitrene " and selective C(sp3)-H bond amination. Iron and
  hydroxylamine : a long-lasting couple for amination reactions
DESCRIPTION:Other informations:\n- Speaker(s): Philippe Dauban &amp\; Guill
 aume Prestat\n- Seminar: Reactive and intermediate species\n- See also:\n-
 - Louis Fensterbank\, chair Activations in Molecular Chemistry\n- Access: 
 Open to all\, subject to availability\n- See the event webpage: https://ww
 w.college-de-france.fr/en/agenda/seminar/reactive-and-intermediate-species
 /rhodium-nitrene-and-selective-csp3-h-bond-amination-iron-and-hydroxylamin
 e-long-lasting-couple-for
DTSTART:20260408T084500Z
DTEND:20260408T101500Z
LOCATION:Salle 5\, Site Marcelin Berthelot
END:VEVENT
BEGIN:VEVENT
UID:cdf-event-fae030b4-0bfe-4d9b-881f-016d60d9fd06
DTSTAMP:20260420T205251Z
SUMMARY:Reactive and intermediate species (5)
DESCRIPTION:Other informations:\n- Speaker(s): Jean-Philippe Goddard\n- Sem
 inar: Reactive and intermediate species\n- See also:\n-- Louis Fensterbank
 \, chair Activations in Molecular Chemistry\n- Access: Open to all\, subje
 ct to availability\n- See the event webpage: https://www.college-de-france
 .fr/en/agenda/seminar/reactive-and-intermediate-species/reactive-and-inter
 mediate-species-5
DTSTART:20260415T090000Z
DTEND:20260415T100000Z
LOCATION:Salle 5\, Site Marcelin Berthelot
END:VEVENT
BEGIN:VEVENT
UID:cdf-event-dac422b5-4d4a-4280-a07d-4340a431fd60
DTSTAMP:20260420T205251Z
SUMMARY:Use of carbocations in stereoselective synthesis
DESCRIPTION:Other informations:\n- Speaker(s): Ilan Marek\n- Seminar: React
 ive and intermediate species\n- See also:\n-- Louis Fensterbank\, chair Ac
 tivations in Molecular Chemistry\n- Access: Open to all\, subject to avail
 ability\n- See the event webpage: https://www.college-de-france.fr/en/agen
 da/seminar/reactive-and-intermediate-species/use-of-carbocations-in-stereo
 selective-synthesis
DTSTART:20260506T090000Z
DTEND:20260506T100000Z
LOCATION:Salle 5\, Site Marcelin Berthelot
END:VEVENT
END:VCALENDAR
