BEGIN:VCALENDAR
PRODID:-//eluceo/ical//2.0/EN
VERSION:2.0
CALSCALE:GREGORIAN
BEGIN:VEVENT
UID:cdf-event-52d6d109-872c-4e27-a4ae-4b8acd88bd4b
DTSTAMP:20260423T094809Z
SUMMARY:Is a policy without a horizon possible ?
DESCRIPTION:Other informations:\n- Speaker(s): Mathieu Potte-Bonneville\n- 
 Seminar: Thinking with Foucault\n- See also:\n-- Didier Fassin\, chair Mor
 al Questions and Political Issues in Contemporary Societies\n- Access: Ope
 n to all\, subject to availability\n- See the event webpage: https://www.c
 ollege-de-france.fr/en/agenda/seminar/thinking-with-foucault/is-policy-wit
 hout-horizon-possible
DTSTART:20260526T143000Z
DTEND:20260526T160000Z
LOCATION:Amphithéâtre Marguerite de Navarre\, Site Marcelin Berthelot
END:VEVENT
END:VCALENDAR
