BEGIN:VCALENDAR
PRODID:-//eluceo/ical//2.0/EN
VERSION:2.0
CALSCALE:GREGORIAN
BEGIN:VEVENT
UID:cdf-event-fda935ce-7de5-4a5d-a16f-d6d07d1dc7f6
DTSTAMP:20260421T212044Z
SUMMARY:Knowledge and power in democratic experiments
DESCRIPTION:Other informations:\n- Speaker(s): José Luis Moreno Pestaña\n
 - Seminar: Thinking with Foucault\n- See also:\n-- Didier Fassin\, chair M
 oral Questions and Political Issues in Contemporary Societies\n- Access: O
 pen to all\, subject to availability\n- See the event webpage: https://www
 .college-de-france.fr/en/agenda/seminar/thinking-with-foucault/knowledge-a
 nd-power-in-democratic-experiments
DTSTART:20260602T143000Z
DTEND:20260602T160000Z
LOCATION:Amphithéâtre Marguerite de Navarre\, Site Marcelin Berthelot
END:VEVENT
END:VCALENDAR
