BEGIN:VCALENDAR
PRODID:-//eluceo/ical//2.0/EN
VERSION:2.0
CALSCALE:GREGORIAN
BEGIN:VEVENT
UID:cdf-event-00563344-60bf-4f33-9d12-f5f741b06d98
DTSTAMP:20260421T024803Z
SUMMARY:Repression and power. The turning point of sexuality
DESCRIPTION:Other informations:\n- Speaker(s): Frédéric Gros\n- Seminar: 
 Thinking with Foucault\n- See also:\n-- Didier Fassin\, chair Moral Questi
 ons and Political Issues in Contemporary Societies\n- Access: Open to all\
 , subject to availability\n- See the event webpage: https://www.college-de
 -france.fr/en/agenda/seminar/thinking-with-foucault/repression-and-power-t
 he-turning-point-of-sexuality
DTSTART:20260505T143000Z
DTEND:20260505T160000Z
LOCATION:Amphithéâtre Marguerite de Navarre\, Site Marcelin Berthelot
END:VEVENT
END:VCALENDAR
