BEGIN:VCALENDAR
PRODID:-//eluceo/ical//2.0/EN
VERSION:2.0
CALSCALE:GREGORIAN
BEGIN:VEVENT
UID:cdf-event-b56d175e-cfe9-4093-bf32-3e774969b277
DTSTAMP:20260421T212039Z
SUMMARY:Strapped to a tiger's back. Michel Foucault and truth
DESCRIPTION:Other informations:\n- Speaker(s): Judith Revel\n- Seminar: Thi
 nking with Foucault\n- See also:\n-- Didier Fassin\, chair Moral Questions
  and Political Issues in Contemporary Societies\n- Access: Open to all\, s
 ubject to availability\n- See the event webpage: https://www.college-de-fr
 ance.fr/en/agenda/seminar/thinking-with-foucault/strapped-to-tiger-back-mi
 chel-foucault-and-truth
DTSTART:20260519T143000Z
DTEND:20260519T160000Z
LOCATION:Amphithéâtre Marguerite de Navarre\, Site Marcelin Berthelot
END:VEVENT
END:VCALENDAR
