BEGIN:VCALENDAR
PRODID:-//eluceo/ical//2.0/EN
VERSION:2.0
CALSCALE:GREGORIAN
BEGIN:VEVENT
UID:cdf-event-4f883108-6ac6-4fdc-8581-4f0c556e41ae
DTSTAMP:20260420T200801Z
SUMMARY:Prehistory : between utopia and reality
DESCRIPTION:Other informations:\n- Speaker(s): Jean-Jacques Hublin\n- Speci
 al events: Conferences " Prehistory : between utopia and reality "\n- See 
 also:\n-- Exhibitions and European Heritage Days\n- Access: Open to all\, 
 subject to availability\n- See the event webpage: https://www.college-de-f
 rance.fr/en/agenda/special-events/conferences-prehistory-between-utopia-an
 d-reality/prehistory-between-utopia-and-reality
DTSTART:20260507T160000Z
DTEND:20260507T170000Z
LOCATION:Amphithéâtre Maurice Halbwachs\, Site Marcelin Berthelot
END:VEVENT
END:VCALENDAR
