BEGIN:VCALENDAR
PRODID:-//eluceo/ical//2.0/EN
VERSION:2.0
CALSCALE:GREGORIAN
BEGIN:VEVENT
UID:cdf-event-a70d903b-610f-4231-9e53-2ef634215ad1
DTSTAMP:20260423T162435Z
SUMMARY:From Sulfonium Salts to Samarium Catalysis: New radical chemistry f
 or synthesis
DESCRIPTION:Other informations:\n- Speaker(s): David J. Procter\n- Symposiu
 m: Electron Transfer II\n- See also:\n-- Louis Fensterbank\, chair Activat
 ions in Molecular Chemistry\n- Access: Open to all\, subject to availabili
 ty\n- See the event webpage: https://www.college-de-france.fr/en/agenda/sy
 mposium/electron-transfer-ii/from-sulfonium-salts-to-samarium-catalysis-ne
 w-radical-chemistry-for-synthesis
DTSTART:20260521T130000Z
DTEND:20260521T134500Z
LOCATION:Amphithéâtre Maurice Halbwachs\, Site Marcelin Berthelot
END:VEVENT
END:VCALENDAR
