BEGIN:VCALENDAR
PRODID:-//eluceo/ical//2.0/EN
VERSION:2.0
CALSCALE:GREGORIAN
BEGIN:VEVENT
UID:cdf-event-92b9ea89-8ce4-42c3-a9d1-d2dfe693d8f0
DTSTAMP:20260423T162348Z
SUMMARY:Intramolecular Electron Transfer in Metalloradical Catalysis
DESCRIPTION:Other informations:\n- Speaker(s): Bas de Bruin\n- Symposium: E
 lectron Transfer II\n- See also:\n-- Louis Fensterbank\, chair Activations
  in Molecular Chemistry\n- Access: Open to all\, subject to availability\n
 - See the event webpage: https://www.college-de-france.fr/en/agenda/sympos
 ium/electron-transfer-ii/intramolecular-electron-transfer-in-metalloradica
 l-catalysis
DTSTART:20260521T075000Z
DTEND:20260521T083500Z
LOCATION:Amphithéâtre Maurice Halbwachs\, Site Marcelin Berthelot
END:VEVENT
END:VCALENDAR
