BEGIN:VCALENDAR
PRODID:-//eluceo/ical//2.0/EN
VERSION:2.0
CALSCALE:GREGORIAN
BEGIN:VEVENT
UID:cdf-event-7e75e6dc-c49c-41b9-ac1a-ff3ba7000ddb
DTSTAMP:20260423T130811Z
SUMMARY:Multiple Proton-Coupled Electron Transfers to Adsorbed Molecular Co
 mplexes in Electrocatalysis. From CO2 to Fuels and Sugars
DESCRIPTION:Other informations:\n- Speaker(s): Marc Robert\n- Symposium: El
 ectron Transfer II\n- See also:\n-- Louis Fensterbank\, chair Activations 
 in Molecular Chemistry\n- Access: Open to all\, subject to availability\n-
  See the event webpage: https://www.college-de-france.fr/en/agenda/symposi
 um/electron-transfer-ii/multiple-proton-coupled-electron-transfers-to-adso
 rbed-molecular-complexes-in-electrocatalysis-from
DTSTART:20260521T070500Z
DTEND:20260521T075000Z
LOCATION:Amphithéâtre Maurice Halbwachs\, Site Marcelin Berthelot
END:VEVENT
END:VCALENDAR
