BEGIN:VCALENDAR
PRODID:-//eluceo/ical//2.0/EN
VERSION:2.0
CALSCALE:GREGORIAN
BEGIN:VEVENT
UID:cdf-event-7a7f6290-e568-4ab9-aabe-375daba91246
DTSTAMP:20260419T135505Z
SUMMARY:Questions and Answers
DESCRIPTION:Other informations:\n- Speaker(s): Judith van der Waerden\n- Sy
 mposium: Mental Health and Addiction: Understanding Determinants to Improv
 e Population Well-Being\n- See also:\n-- Maria Melchior\, chair Public hea
 lth\n- Access: Open to all\, subject to availability\n- See the event webp
 age: https://www.college-de-france.fr/en/agenda/symposium/mental-health-an
 d-addiction-understanding-determinants-to-improve-population-well-being/qu
 estions-and-answers-0
DTSTART:20260529T101500Z
DTEND:20260529T104500Z
LOCATION:Salle 5\, Site Marcelin Berthelot
END:VEVENT
END:VCALENDAR
