BEGIN:VCALENDAR
PRODID:-//eluceo/ical//2.0/EN
VERSION:2.0
CALSCALE:GREGORIAN
BEGIN:VEVENT
UID:cdf-event-3a6206f7-70de-418b-acc1-0f6fa1e2bb42
DTSTAMP:20260425T195622Z
SUMMARY:Questions and Answers
DESCRIPTION:Other informations:\n- Speaker(s): Maria Melchior\n- Symposium:
  Mental Health and Addiction: Understanding Determinants to Improve Popula
 tion Well-Being\n- See also:\n-- Maria Melchior\, chair Public health\n- A
 ccess: Open to all\, subject to availability\n- See the event webpage: htt
 ps://www.college-de-france.fr/en/agenda/symposium/mental-health-and-addict
 ion-understanding-determinants-to-improve-population-well-being/questions-
 and-answers
DTSTART:20260529T144500Z
DTEND:20260529T151500Z
LOCATION:Salle 5\, Site Marcelin Berthelot
END:VEVENT
END:VCALENDAR
