BEGIN:VCALENDAR
PRODID:-//eluceo/ical//2.0/EN
VERSION:2.0
CALSCALE:GREGORIAN
BEGIN:VEVENT
UID:cdf-event-ef75db89-0643-4d3d-a347-0aa6e974531a
DTSTAMP:20260420T102216Z
SUMMARY:The Impact of Family Policies on the Mental Health of Children's Ca
 regivers - Session 1: Children
DESCRIPTION:Other informations:\n- Speaker(s): Emilie Courtin\n- Symposium:
  Mental Health and Addiction: Understanding Determinants to Improve Popula
 tion Well-Being\n- See also:\n-- Maria Melchior\, chair Public health\n- A
 ccess: Open to all\, subject to availability\n- See the event webpage: htt
 ps://www.college-de-france.fr/en/agenda/symposium/mental-health-and-addict
 ion-understanding-determinants-to-improve-population-well-being/the-impact
 -of-family-policies-on-the-mental-health-of-children-caregivers
DTSTART:20260529T083000Z
DTEND:20260529T090000Z
LOCATION:Salle 5\, Site Marcelin Berthelot
END:VEVENT
END:VCALENDAR
