BEGIN:VCALENDAR
PRODID:-//eluceo/ical//2.0/EN
VERSION:2.0
CALSCALE:GREGORIAN
BEGIN:VEVENT
UID:cdf-event-12c47928-80db-4215-93eb-6406419836d1
DTSTAMP:20260421T001639Z
SUMMARY:Capitalism\, Alienation\, and the Rule of None
DESCRIPTION:Other informations:\n- Speaker(s): Chiara Cordelli\n- Symposium
 : Socialism and liberal egalitarianism: a necessary dialogue\n- See also:\
 n-- Lea Ypi\, chair The Invention of Europe through languages and cultures
 \n- Access: Open to all\, subject to availability\n- See the event webpage
 : https://www.college-de-france.fr/en/agenda/symposium/socialism-and-liber
 al-egalitarianism-necessary-dialogue/capitalism-alienation-and-the-rule-of
 -none
DTSTART:20260515T133000Z
DTEND:20260515T143000Z
LOCATION:Amphithéâtre Maurice Halbwachs\, Site Marcelin Berthelot
END:VEVENT
END:VCALENDAR
