BEGIN:VCALENDAR
PRODID:-//eluceo/ical//2.0/EN
VERSION:2.0
CALSCALE:GREGORIAN
BEGIN:VEVENT
UID:cdf-event-8ed7c6ba-db32-440a-8863-799e836115c6
DTSTAMP:20260422T085755Z
SUMMARY:Three Socialist Criticisms of Liberalism
DESCRIPTION:Other informations:\n- Speaker(s): Jan Kandiyali\n- Symposium: 
 Socialism and liberal egalitarianism: a necessary dialogue\n- See also:\n-
 - Lea Ypi\, chair The Invention of Europe through languages and cultures\n
 - Access: Open to all\, subject to availability\n- See the event webpage: 
 https://www.college-de-france.fr/en/agenda/symposium/socialism-and-liberal
 -egalitarianism-necessary-dialogue/three-socialist-criticisms-of-liberalis
 m
DTSTART:20260515T080000Z
DTEND:20260515T090000Z
LOCATION:Amphithéâtre Maurice Halbwachs\, Site Marcelin Berthelot
END:VEVENT
BEGIN:VEVENT
UID:cdf-event-4e52db79-5911-4e2c-a694-165888fafb8f
DTSTAMP:20260422T085755Z
SUMMARY:Labour before Citizenship
DESCRIPTION:Other informations:\n- Speaker(s): Nicholas Vrousalis\n- Sympos
 ium: Socialism and liberal egalitarianism: a necessary dialogue\n- See als
 o:\n-- Lea Ypi\, chair The Invention of Europe through languages and cultu
 res\n- Access: Open to all\, subject to availability\n- See the event webp
 age: https://www.college-de-france.fr/en/agenda/symposium/socialism-and-li
 beral-egalitarianism-necessary-dialogue/labour-before-citizenship
DTSTART:20260515T090000Z
DTEND:20260515T100000Z
LOCATION:Amphithéâtre Maurice Halbwachs\, Site Marcelin Berthelot
END:VEVENT
BEGIN:VEVENT
UID:cdf-event-b59d717a-641b-46d7-b498-7103b8ff0de0
DTSTAMP:20260422T085755Z
SUMMARY:Socialist Childhood
DESCRIPTION:Other informations:\n- Speaker(s): Anca Gheaus\n- Symposium: So
 cialism and liberal egalitarianism: a necessary dialogue\n- See also:\n-- 
 Lea Ypi\, chair The Invention of Europe through languages and cultures\n- 
 Access: Open to all\, subject to availability\n- See the event webpage: ht
 tps://www.college-de-france.fr/en/agenda/symposium/socialism-and-liberal-e
 galitarianism-necessary-dialogue/socialist-childhood
DTSTART:20260515T110000Z
DTEND:20260515T120000Z
LOCATION:Amphithéâtre Maurice Halbwachs\, Site Marcelin Berthelot
END:VEVENT
BEGIN:VEVENT
UID:cdf-event-a682e41b-9578-45d9-95ae-a00807485e99
DTSTAMP:20260422T085755Z
SUMMARY:The Climate Emergency\, State Power\, and the Expansion of Democrat
 ic Control
DESCRIPTION:Other informations:\n- Speaker(s): Martin O'Neill\n- Symposium:
  Socialism and liberal egalitarianism: a necessary dialogue\n- See also:\n
 -- Lea Ypi\, chair The Invention of Europe through languages and cultures\
 n- Access: Open to all\, subject to availability\n- See the event webpage:
  https://www.college-de-france.fr/en/agenda/symposium/socialism-and-libera
 l-egalitarianism-necessary-dialogue/the-climate-emergency-state-power-and-
 the-expansion-of-democratic-control
DTSTART:20260515T120000Z
DTEND:20260515T130000Z
LOCATION:Amphithéâtre Maurice Halbwachs\, Site Marcelin Berthelot
END:VEVENT
BEGIN:VEVENT
UID:cdf-event-12c47928-80db-4215-93eb-6406419836d1
DTSTAMP:20260422T085755Z
SUMMARY:Capitalism\, Alienation\, and the Rule of None
DESCRIPTION:Other informations:\n- Speaker(s): Chiara Cordelli\n- Symposium
 : Socialism and liberal egalitarianism: a necessary dialogue\n- See also:\
 n-- Lea Ypi\, chair The Invention of Europe through languages and cultures
 \n- Access: Open to all\, subject to availability\n- See the event webpage
 : https://www.college-de-france.fr/en/agenda/symposium/socialism-and-liber
 al-egalitarianism-necessary-dialogue/capitalism-alienation-and-the-rule-of
 -none
DTSTART:20260515T133000Z
DTEND:20260515T143000Z
LOCATION:Amphithéâtre Maurice Halbwachs\, Site Marcelin Berthelot
END:VEVENT
BEGIN:VEVENT
UID:cdf-event-54bc3c25-b7c5-46a4-9681-33dec23b8b71
DTSTAMP:20260422T085755Z
SUMMARY:Revolutionary Redemption and the Socialist Afterlife
DESCRIPTION:Other informations:\n- Speaker(s): Gabriel Wollner\n- Symposium
 : Socialism and liberal egalitarianism: a necessary dialogue\n- See also:\
 n-- Lea Ypi\, chair The Invention of Europe through languages and cultures
 \n- Access: Open to all\, subject to availability\n- See the event webpage
 : https://www.college-de-france.fr/en/agenda/symposium/socialism-and-liber
 al-egalitarianism-necessary-dialogue/revolutionary-redemption-and-the-soci
 alist-afterlife
DTSTART:20260515T143000Z
DTEND:20260515T153000Z
LOCATION:Amphithéâtre Maurice Halbwachs\, Site Marcelin Berthelot
END:VEVENT
END:VCALENDAR
