BEGIN:VCALENDAR
PRODID:-//eluceo/ical//2.0/EN
VERSION:2.0
CALSCALE:GREGORIAN
BEGIN:VEVENT
UID:cdf-event-d701e051-f8dd-46e7-93d1-9311e43dea28
DTSTAMP:20260419T135155Z
SUMMARY:Mass Structure of the Convecting Mantle: Constraints Using Satellit
 e Gravity Data - Session 2: Global Geodynamics of the Earth
DESCRIPTION:Other informations:\n- Speaker(s): Isabelle Panet\n- Symposium:
  The Earth\, a dynamic planet: a tribute to Xavier Le Pichon\n- See also:\
 n-- Edouard Bard\, chair Climate and Ocean Evolution\n-- Alessandro Morbid
 elli\, chair Planetary Formation: from Earth to Exoplanets\n- Access: Open
  to all\, subject to availability\n- See the event webpage: https://www.co
 llege-de-france.fr/en/agenda/symposium/the-earth-dynamic-planet-tribute-to
 -xavier-le-pichon/mass-structure-of-the-convecting-mantle-constraints-usin
 g-satellite-gravity-data
DTSTART:20260528T143000Z
DTEND:20260528T151000Z
LOCATION:Amphithéâtre Marguerite de Navarre\, Site Marcelin Berthelot
END:VEVENT
END:VCALENDAR
