BEGIN:VCALENDAR
PRODID:-//eluceo/ical//2.0/EN
VERSION:2.0
CALSCALE:GREGORIAN
BEGIN:VEVENT
UID:cdf-event-3b43e6d9-12d8-4443-b8ce-f6a96ad2062e
DTSTAMP:20260419T135127Z
SUMMARY:The Interplay between Water\, Ice and the Solid Earth - Session 4: 
 Continental Drift and Paleoclimates
DESCRIPTION:Other informations:\n- Speaker(s): Kristel Chanard\n- Symposium
 : The Earth\, a dynamic planet: a tribute to Xavier Le Pichon\n- See also:
 \n-- Edouard Bard\, chair Climate and Ocean Evolution\n-- Alessandro Morbi
 delli\, chair Planetary Formation: from Earth to Exoplanets\n- Access: Ope
 n to all\, subject to availability\n- See the event webpage: https://www.c
 ollege-de-france.fr/en/agenda/symposium/the-earth-dynamic-planet-tribute-t
 o-xavier-le-pichon/the-interplay-between-water-ice-and-the-solid-earth
DTSTART:20260529T124000Z
DTEND:20260529T132000Z
LOCATION:Amphithéâtre Marguerite de Navarre\, Site Marcelin Berthelot
END:VEVENT
END:VCALENDAR
