BEGIN:VCALENDAR
PRODID:-//eluceo/ical//2.0/EN
VERSION:2.0
CALSCALE:GREGORIAN
BEGIN:VEVENT
UID:cdf-event-8abc0495-f97a-45b7-8394-32e0c0558b7d
DTSTAMP:20260423T162323Z
SUMMARY:Science and Enlightenment. New objects\, new challenges (1)
DESCRIPTION:Other informations:\n- Speaker(s): Antoine Lilti\n- Symposium: 
 Who owns Enlightenment science ?\n- See also:\n-- Antoine Lilti\, chair Hi
 story of the Enlightenment\, 18th-21st century\n- Access: Open to all\, su
 bject to availability\n- See the event webpage: https://www.college-de-fra
 nce.fr/en/agenda/symposium/science-and-enlightenment-new-objects-new-chall
 enges/science-and-enlightenment-new-objects-new-challenges-1
DTSTART:20260603T070000Z
DTEND:20260603T160000Z
LOCATION:Amphithéâtre Marguerite de Navarre\, Site Marcelin Berthelot
END:VEVENT
BEGIN:VEVENT
UID:cdf-event-26ea4bed-fe26-4ce7-be7b-17b60ff6679a
DTSTAMP:20260423T162323Z
SUMMARY:Science and Enlightenment. New objects\, new challenges (2)
DESCRIPTION:Other informations:\n- Speaker(s): Antoine Lilti\n- Symposium: 
 Who owns Enlightenment science ?\n- See also:\n-- Antoine Lilti\, chair Hi
 story of the Enlightenment\, 18th-21st century\n- Access: Open to all\, su
 bject to availability\n- See the event webpage: https://www.college-de-fra
 nce.fr/en/agenda/symposium/science-and-enlightenment-new-objects-new-chall
 enges/science-and-enlightenment-new-objects-new-challenges-2
DTSTART:20260604T070000Z
DTEND:20260604T160000Z
LOCATION:Amphithéâtre Marguerite de Navarre\, Site Marcelin Berthelot
END:VEVENT
END:VCALENDAR
