BEGIN:VCALENDAR
PRODID:-//eluceo/ical//2.0/EN
VERSION:2.0
CALSCALE:GREGORIAN
BEGIN:VEVENT
UID:cdf-event-d6185505-8454-470b-bb2d-ee517ede66df
DTSTAMP:20260420T221454Z
SUMMARY:Absences
DESCRIPTION:Other informations:\n- Speaker(s): Didier Fassin\n- Lecture: Fo
 ucault's presence\n- See also:\n-- Didier Fassin\, chair Moral Questions a
 nd Political Issues in Contemporary Societies\n- Access: Open to all\, sub
 ject to availability\n- See the event webpage: https://www.college-de-fran
 ce.fr/fr/agenda/cours/presences-de-foucault/absences
DTSTART:20260602T131500Z
DTEND:20260602T141500Z
LOCATION:Amphithéâtre Marguerite de Navarre\, Site Marcelin Berthelot
END:VEVENT
END:VCALENDAR
