BEGIN:VCALENDAR
PRODID:-//eluceo/ical//2.0/EN
VERSION:2.0
CALSCALE:GREGORIAN
BEGIN:VEVENT
UID:cdf-event-3b1e92b6-211f-4011-ada1-f8d937bc1442
DTSTAMP:20260419T120301Z
SUMMARY:Esclavage\, servage et servitude - Session 4 : Droits naturels et a
 ntiesclavagisme
DESCRIPTION:Informations complémentaires :\n- Intervenant(s) : Thierry Hoq
 uet\n- Colloque: L'antiesclavagisme : un idéal cosmopolite ?\n- Événeme
 nt associé à :\n-- Antoine Lilti\, chaire Histoire des Lumières\, XVIII
 e-XXIe siècle\n- Accès : En libre accès\, dans la limite des places dis
 ponibles\n- Accéder à la page de l'événement : https://www.college-de-
 france.fr/fr/agenda/colloque/antiesclavagisme-un-ideal-cosmopolite/esclava
 ge-servage-et-servitude
DTSTART:20260619T120000Z
DTEND:20260619T123000Z
LOCATION:Amphithéâtre Mireille Delmas-Marty (salle 5)\, Site Marcelin Ber
 thelot
END:VEVENT
END:VCALENDAR
