BEGIN:VCALENDAR
PRODID:-//eluceo/ical//2.0/EN
VERSION:2.0
CALSCALE:GREGORIAN
BEGIN:VEVENT
UID:cdf-event-a5b6df96-ca15-4d21-a147-c425823fc25e
DTSTAMP:20260421T191940Z
SUMMARY:Foucault's Legacies
DESCRIPTION:Informations complémentaires :\n- Intervenant(s) : Didier Fass
 in\n- Colloque: Foucault's Legacies\n- Événement associé à :\n-- Didie
 r Fassin\, chaire Questions morales et enjeux politiques dans les sociét
 és contemporaines\n- Accès : En libre accès\, dans la limite des places
  disponibles\n- Accéder à la page de l'événement : https://www.college
 -de-france.fr/fr/agenda/colloque/foucault-legacies/foucault-legacies
DTSTART:20260605T070000Z
DTEND:20260605T160000Z
LOCATION:Amphithéâtre Marguerite de Navarre\, Site Marcelin Berthelot
END:VEVENT
END:VCALENDAR
