BEGIN:VCALENDAR
PRODID:-//eluceo/ical//2.0/EN
VERSION:2.0
CALSCALE:GREGORIAN
BEGIN:VEVENT
UID:cdf-event-7e9d3577-eda8-4736-8a83-0b6c91135c06
DTSTAMP:20260423T140459Z
SUMMARY:Welcome and introduction
DESCRIPTION:Informations complémentaires :\n- Intervenant(s) : Thomas Lecu
 it\n- Colloque: Information Flow and Computation in Living Systems\n- Év
 énement associé à :\n-- Thomas Lecuit\, chaire Dynamiques du vivant\n- 
 Accès : En libre accès\, dans la limite des places disponibles\n- Accéd
 er à la page de l'événement : https://www.college-de-france.fr/fr/agend
 a/colloque/information-flow-and-computation-in-living-systems/welcome-and-
 introduction
DTSTART:20260626T070000Z
DTEND:20260626T070500Z
LOCATION:Amphithéâtre Maurice Halbwachs\, Site Marcelin Berthelot
END:VEVENT
BEGIN:VEVENT
UID:cdf-event-8df99acd-c5d4-4e4b-a045-ba1bd290eaac
DTSTAMP:20260423T140459Z
SUMMARY:Is Mechanics Cooperative or Competitive?
DESCRIPTION:Informations complémentaires :\n- Intervenant(s) : Edouard Han
 nezo\n- Colloque: Information Flow and Computation in Living Systems\n- É
 vénement associé à :\n-- Thomas Lecuit\, chaire Dynamiques du vivant\n-
  Accès : En libre accès\, dans la limite des places disponibles\n- Accé
 der à la page de l'événement : https://www.college-de-france.fr/fr/agen
 da/colloque/information-flow-and-computation-in-living-systems/is-mechanic
 s-cooperative-or-competitive
DTSTART:20260626T070500Z
DTEND:20260626T075000Z
LOCATION:Amphithéâtre Maurice Halbwachs\, Site Marcelin Berthelot
END:VEVENT
BEGIN:VEVENT
UID:cdf-event-c1072d32-0f87-4caa-8121-cf79700b877e
DTSTAMP:20260423T140459Z
SUMMARY:Multiscale Integration of Cellular Context and Chromatin States in 
 Tissue Patterning 
DESCRIPTION:Informations complémentaires :\n- Intervenant(s) : Cornelia Sc
 hwayer\n- Colloque: Information Flow and Computation in Living Systems\n- 
 Événement associé à :\n-- Thomas Lecuit\, chaire Dynamiques du vivant\
 n- Accès : En libre accès\, dans la limite des places disponibles\n- Acc
 éder à la page de l'événement : https://www.college-de-france.fr/fr/ag
 enda/colloque/information-flow-and-computation-in-living-systems/multiscal
 e-integration-of-cellular-context-and-chromatin-states-in-tissue-patternin
 g
DTSTART:20260626T075000Z
DTEND:20260626T083500Z
LOCATION:Amphithéâtre Maurice Halbwachs\, Site Marcelin Berthelot
END:VEVENT
BEGIN:VEVENT
UID:cdf-event-13ba82f5-a073-4bd8-bd0e-e79a7d75a6db
DTSTAMP:20260423T140459Z
SUMMARY:What to Throw Away? How the Brain Makes Efficient Codes
DESCRIPTION:Informations complémentaires :\n- Intervenant(s) : Stephanie P
 almer\n- Colloque: Information Flow and Computation in Living Systems\n- 
 Événement associé à :\n-- Thomas Lecuit\, chaire Dynamiques du vivant\
 n- Accès : En libre accès\, dans la limite des places disponibles\n- Acc
 éder à la page de l'événement : https://www.college-de-france.fr/fr/ag
 enda/colloque/information-flow-and-computation-in-living-systems/what-to-t
 hrow-away-how-the-brain-makes-efficient-codes
DTSTART:20260626T090500Z
DTEND:20260626T095000Z
LOCATION:Amphithéâtre Maurice Halbwachs\, Site Marcelin Berthelot
END:VEVENT
BEGIN:VEVENT
UID:cdf-event-02994e44-6de4-41dc-b391-cd16fdc8165d
DTSTAMP:20260423T140459Z
SUMMARY:Memory and Prediction in the Adaptive Immune System
DESCRIPTION:Informations complémentaires :\n- Intervenant(s) : Thierry Mor
 a\n- Colloque: Information Flow and Computation in Living Systems\n- Évé
 nement associé à :\n-- Thomas Lecuit\, chaire Dynamiques du vivant\n- Ac
 cès : En libre accès\, dans la limite des places disponibles\n- Accéder
  à la page de l'événement : https://www.college-de-france.fr/fr/agenda/
 colloque/information-flow-and-computation-in-living-systems/memory-and-pre
 diction-in-the-adaptive-immune-system
DTSTART:20260626T095000Z
DTEND:20260626T103500Z
LOCATION:Amphithéâtre Maurice Halbwachs\, Site Marcelin Berthelot
END:VEVENT
BEGIN:VEVENT
UID:cdf-event-c14a0e2d-756a-467c-9d0b-d2d33e8d2a13
DTSTAMP:20260423T140459Z
SUMMARY:Timing\, Noise and Collectives: How the Cell Cycles Shape the Early
  Embryo
DESCRIPTION:Informations complémentaires :\n- Intervenant(s) : Nicoletta P
 etrido\n- Colloque: Information Flow and Computation in Living Systems\n- 
 Événement associé à :\n-- Thomas Lecuit\, chaire Dynamiques du vivant\
 n- Accès : En libre accès\, dans la limite des places disponibles\n- Acc
 éder à la page de l'événement : https://www.college-de-france.fr/fr/ag
 enda/colloque/information-flow-and-computation-in-living-systems/timing-no
 ise-and-collectives-how-the-cell-cycles-shape-the-early-embryo
DTSTART:20260626T120000Z
DTEND:20260626T124500Z
LOCATION:Amphithéâtre Maurice Halbwachs\, Site Marcelin Berthelot
END:VEVENT
BEGIN:VEVENT
UID:cdf-event-c0cd980e-239a-47c7-933a-dd4e1a3cad11
DTSTAMP:20260423T140459Z
SUMMARY:The Dynamics of Neural Tube Development 
DESCRIPTION:Informations complémentaires :\n- Intervenant(s) : James Brisc
 oe\n- Colloque: Information Flow and Computation in Living Systems\n- Év
 énement associé à :\n-- Thomas Lecuit\, chaire Dynamiques du vivant\n- 
 Accès : En libre accès\, dans la limite des places disponibles\n- Accéd
 er à la page de l'événement : https://www.college-de-france.fr/fr/agend
 a/colloque/information-flow-and-computation-in-living-systems/the-dynamics
 -of-neural-tube-development
DTSTART:20260626T124500Z
DTEND:20260626T133000Z
LOCATION:Amphithéâtre Maurice Halbwachs\, Site Marcelin Berthelot
END:VEVENT
BEGIN:VEVENT
UID:cdf-event-94fdc4e6-3132-4473-8a63-e436e31951b6
DTSTAMP:20260423T140459Z
SUMMARY:Affordance Theory and the Evolution of Eukaryotic Endomembrane Comp
 artments
DESCRIPTION:Informations complémentaires :\n- Intervenant(s) : Mukund That
 tai\n- Colloque: Information Flow and Computation in Living Systems\n- Év
 énement associé à :\n-- Thomas Lecuit\, chaire Dynamiques du vivant\n- 
 Accès : En libre accès\, dans la limite des places disponibles\n- Accéd
 er à la page de l'événement : https://www.college-de-france.fr/fr/agend
 a/colloque/information-flow-and-computation-in-living-systems/affordance-t
 heory-and-the-evolution-of-eukaryotic-endomembrane-compartments
DTSTART:20260626T140000Z
DTEND:20260626T144500Z
LOCATION:Amphithéâtre Maurice Halbwachs\, Site Marcelin Berthelot
END:VEVENT
BEGIN:VEVENT
UID:cdf-event-c0bf01ca-c6f8-4859-8f00-892204d88744
DTSTAMP:20260423T140459Z
SUMMARY:Do Neural Dynamics Explain How the Brain Controls Behavior?
DESCRIPTION:Informations complémentaires :\n- Intervenant(s) : Lorenzo Fon
 tolan\n- Colloque: Information Flow and Computation in Living Systems\n- 
 Événement associé à :\n-- Thomas Lecuit\, chaire Dynamiques du vivant\
 n- Accès : En libre accès\, dans la limite des places disponibles\n- Acc
 éder à la page de l'événement : https://www.college-de-france.fr/fr/ag
 enda/colloque/information-flow-and-computation-in-living-systems/do-neural
 -dynamics-explain-how-the-brain-controls-behavior
DTSTART:20260626T144500Z
DTEND:20260626T153000Z
LOCATION:Amphithéâtre Maurice Halbwachs\, Site Marcelin Berthelot
END:VEVENT
BEGIN:VEVENT
UID:cdf-event-0fb54502-af50-46e4-b8c9-735017a7560a
DTSTAMP:20260423T140459Z
SUMMARY:On the Response of Bacteria to Complex Environments
DESCRIPTION:Informations complémentaires :\n- Intervenant(s) : Jordi Garci
 a-Ojalvo\n- Colloque: Information Flow and Computation in Living Systems\n
 - Événement associé à :\n-- Thomas Lecuit\, chaire Dynamiques du vivan
 t\n- Accès : En libre accès\, dans la limite des places disponibles\n- A
 ccéder à la page de l'événement : https://www.college-de-france.fr/fr/
 agenda/colloque/information-flow-and-computation-in-living-systems/on-the-
 response-of-bacteria-to-complex-environments
DTSTART:20260626T153000Z
DTEND:20260626T161500Z
LOCATION:Amphithéâtre Maurice Halbwachs\, Site Marcelin Berthelot
END:VEVENT
END:VCALENDAR
