BEGIN:VCALENDAR
PRODID:-//eluceo/ical//2.0/EN
VERSION:2.0
CALSCALE:GREGORIAN
BEGIN:VEVENT
UID:cdf-event-3dcf6f54-5c25-464a-9224-e8e5f159b9ad
DTSTAMP:20260420T163732Z
SUMMARY:Paul Casanova\, l'Égypte et le Coran
DESCRIPTION:Informations complémentaires :\n- Intervenant(s) : François D
 éroche\n- Colloque: Paul Casanova\, l'Égypte et le Coran\n- Événement 
 associé à :\n-- François Déroche\, chaire Histoire du Coran. Texte et 
 transmission\n- Accès : En libre accès\, dans la limite des places dispo
 nibles\n- Accéder à la page de l'événement : https://www.college-de-fr
 ance.fr/fr/agenda/colloque/paul-casanova-egypte-et-le-coran/paul-casanova-
 egypte-et-le-coran
DTSTART:20260528T070000Z
DTEND:20260528T160000Z
LOCATION:Amphithéâtre Maurice Halbwachs\, Site Marcelin Berthelot
END:VEVENT
END:VCALENDAR
