BEGIN:VCALENDAR
PRODID:-//eluceo/ical//2.0/EN
VERSION:2.0
CALSCALE:GREGORIAN
BEGIN:VEVENT
UID:cdf-event-576119c3-f1e1-4f1b-bb99-7664a9484c6b
DTSTAMP:20260420T120503Z
SUMMARY:Transfert électronique (2)
DESCRIPTION:Informations complémentaires :\n- Intervenant(s) : Louis Fenst
 erbank\n- Colloque: Transfert électronique (2)\n- Événement associé à
  :\n-- Louis Fensterbank\, chaire Activations en chimie moléculaire\n- Ac
 cès : En libre accès\, dans la limite des places disponibles\n- Accéder
  à la page de l'événement : https://www.college-de-france.fr/fr/agenda/
 colloque/transfert-electronique-2/transfert-electronique-2
DTSTART:20260521T070000Z
DTEND:20260521T160000Z
LOCATION:Amphithéâtre Maurice Halbwachs\, Site Marcelin Berthelot
END:VEVENT
END:VCALENDAR
