BEGIN:VCALENDAR
PRODID:-//eluceo/ical//2.0/EN
VERSION:2.0
CALSCALE:GREGORIAN
BEGIN:VEVENT
UID:cdf-event-a86ffa0b-dd9a-4d46-983f-54687e0c020b
DTSTAMP:20260423T162326Z
SUMMARY:Discussions & Conclusions
DESCRIPTION:Informations complémentaires :\n- Intervenant(s) : Louis Fenst
 erbank\n- Colloque: Transfert électronique II\n- Événement associé à 
 :\n-- Louis Fensterbank\, chaire Activations en chimie moléculaire\n- Acc
 ès : En libre accès\, dans la limite des places disponibles\n- Accéder 
 à la page de l'événement : https://www.college-de-france.fr/fr/agenda/c
 olloque/transfert-electronique-ii/discussions-conclusions
DTSTART:20260521T162000Z
DTEND:20260521T163000Z
LOCATION:Amphithéâtre Maurice Halbwachs\, Site Marcelin Berthelot
END:VEVENT
END:VCALENDAR
