BEGIN:VCALENDAR
PRODID:-//eluceo/ical//2.0/EN
VERSION:2.0
CALSCALE:GREGORIAN
BEGIN:VEVENT
UID:cdf-event-576119c3-f1e1-4f1b-bb99-7664a9484c6b
DTSTAMP:20260423T130733Z
SUMMARY:Introduction
DESCRIPTION:Informations complémentaires :\n- Intervenant(s) : Louis Fenst
 erbank\n- Colloque: Transfert électronique II\n- Événement associé à 
 :\n-- Louis Fensterbank\, chaire Activations en chimie moléculaire\n- Acc
 ès : En libre accès\, dans la limite des places disponibles\n- Accéder 
 à la page de l'événement : https://www.college-de-france.fr/fr/agenda/c
 olloque/transfert-electronique-ii/introduction
DTSTART:20260521T070000Z
DTEND:20260521T070500Z
LOCATION:Amphithéâtre Maurice Halbwachs\, Site Marcelin Berthelot
END:VEVENT
BEGIN:VEVENT
UID:cdf-event-7e75e6dc-c49c-41b9-ac1a-ff3ba7000ddb
DTSTAMP:20260423T130733Z
SUMMARY:Multiple Proton-Coupled Electron Transfers to Adsorbed Molecular Co
 mplexes in Electrocatalysis. From CO2 to Fuels and Sugars
DESCRIPTION:Informations complémentaires :\n- Intervenant(s) : Marc Robert
 \n- Colloque: Transfert électronique II\n- Événement associé à :\n-- 
 Louis Fensterbank\, chaire Activations en chimie moléculaire\n- Accès : 
 En libre accès\, dans la limite des places disponibles\n- Accéder à la 
 page de l'événement : https://www.college-de-france.fr/fr/agenda/colloqu
 e/transfert-electronique-ii/multiple-proton-coupled-electron-transfers-to-
 adsorbed-molecular-complexes-in-electrocatalysis-from
DTSTART:20260521T070500Z
DTEND:20260521T075000Z
LOCATION:Amphithéâtre Maurice Halbwachs\, Site Marcelin Berthelot
END:VEVENT
BEGIN:VEVENT
UID:cdf-event-92b9ea89-8ce4-42c3-a9d1-d2dfe693d8f0
DTSTAMP:20260423T130733Z
SUMMARY:Intramolecular Electron Transfer in Metalloradical Catalysis
DESCRIPTION:Informations complémentaires :\n- Intervenant(s) : Bas de Brui
 n\n- Colloque: Transfert électronique II\n- Événement associé à :\n--
  Louis Fensterbank\, chaire Activations en chimie moléculaire\n- Accès :
  En libre accès\, dans la limite des places disponibles\n- Accéder à la
  page de l'événement : https://www.college-de-france.fr/fr/agenda/colloq
 ue/transfert-electronique-ii/intramolecular-electron-transfer-in-metallora
 dical-catalysis
DTSTART:20260521T075000Z
DTEND:20260521T083500Z
LOCATION:Amphithéâtre Maurice Halbwachs\, Site Marcelin Berthelot
END:VEVENT
BEGIN:VEVENT
UID:cdf-event-d61cd10d-c6f9-46c4-a1dc-bc29d452f58b
DTSTAMP:20260423T130733Z
SUMMARY:Illustration of Basic Principles of Electron Transfer in Polyoxomet
 alate-Advanced Systems
DESCRIPTION:Informations complémentaires :\n- Intervenant(s) : Anna Proust
 \n- Colloque: Transfert électronique II\n- Événement associé à :\n-- 
 Louis Fensterbank\, chaire Activations en chimie moléculaire\n- Accès : 
 En libre accès\, dans la limite des places disponibles\n- Accéder à la 
 page de l'événement : https://www.college-de-france.fr/fr/agenda/colloqu
 e/transfert-electronique-ii/illustration-of-basic-principles-of-electron-t
 ransfer-in-polyoxometalate-advanced-systems
DTSTART:20260521T090000Z
DTEND:20260521T094500Z
LOCATION:Amphithéâtre Maurice Halbwachs\, Site Marcelin Berthelot
END:VEVENT
BEGIN:VEVENT
UID:cdf-event-8a3c1d72-b089-43d9-a0c8-f1c77593c08f
DTSTAMP:20260423T130733Z
SUMMARY:Reductive Chemistry of Small Molecule Through Interplay of Electron
 -Rich Metal Species and Lewis Acids
DESCRIPTION:Informations complémentaires :\n- Intervenant(s) : Antoine Sim
 onneau\n- Colloque: Transfert électronique II\n- Événement associé à 
 :\n-- Louis Fensterbank\, chaire Activations en chimie moléculaire\n- Acc
 ès : En libre accès\, dans la limite des places disponibles\n- Accéder 
 à la page de l'événement : https://www.college-de-france.fr/fr/agenda/c
 olloque/transfert-electronique-ii/reductive-chemistry-of-small-molecule-th
 rough-interplay-of-electron-rich-metal-species-and-lewis
DTSTART:20260521T094500Z
DTEND:20260521T103000Z
LOCATION:Amphithéâtre Maurice Halbwachs\, Site Marcelin Berthelot
END:VEVENT
BEGIN:VEVENT
UID:cdf-event-470fae01-f420-4172-acd9-32b4a35c8a06
DTSTAMP:20260423T130733Z
SUMMARY:A Journey in Gold Catalysis Towards Diversity: from Heterocycles to
  Fragrances
DESCRIPTION:Informations complémentaires :\n- Intervenant(s) : Véronique 
 Michelet\n- Colloque: Transfert électronique II\n- Événement associé 
 à :\n-- Louis Fensterbank\, chaire Activations en chimie moléculaire\n- 
 Accès : En libre accès\, dans la limite des places disponibles\n- Accéd
 er à la page de l'événement : https://www.college-de-france.fr/fr/agend
 a/colloque/transfert-electronique-ii/journey-in-gold-catalysis-towards-div
 ersity-from-heterocycles-to-fragrances
DTSTART:20260521T121500Z
DTEND:20260521T130000Z
LOCATION:Amphithéâtre Maurice Halbwachs\, Site Marcelin Berthelot
END:VEVENT
BEGIN:VEVENT
UID:cdf-event-a70d903b-610f-4231-9e53-2ef634215ad1
DTSTAMP:20260423T130733Z
SUMMARY:From Sulfonium Salts to Samarium Catalysis: New radical chemistry f
 or synthesis
DESCRIPTION:Informations complémentaires :\n- Intervenant(s) : David J. Pr
 octer\n- Colloque: Transfert électronique II\n- Événement associé à :
 \n-- Louis Fensterbank\, chaire Activations en chimie moléculaire\n- Acc
 ès : En libre accès\, dans la limite des places disponibles\n- Accéder 
 à la page de l'événement : https://www.college-de-france.fr/fr/agenda/c
 olloque/transfert-electronique-ii/from-sulfonium-salts-to-samarium-catalys
 is-new-radical-chemistry-for-synthesis
DTSTART:20260521T130000Z
DTEND:20260521T134500Z
LOCATION:Amphithéâtre Maurice Halbwachs\, Site Marcelin Berthelot
END:VEVENT
BEGIN:VEVENT
UID:cdf-event-6ee1ca18-eacf-4f3f-bc67-890b7d4ef0f4
DTSTAMP:20260423T130733Z
SUMMARY:From Photocatalyst Design to Catalyst-Free Radical Transformations
DESCRIPTION:Informations complémentaires :\n- Intervenant(s) : Géraldine 
 Masson\n- Colloque: Transfert électronique II\n- Événement associé à 
 :\n-- Louis Fensterbank\, chaire Activations en chimie moléculaire\n- Acc
 ès : En libre accès\, dans la limite des places disponibles\n- Accéder 
 à la page de l'événement : https://www.college-de-france.fr/fr/agenda/c
 olloque/transfert-electronique-ii/from-photocatalyst-design-to-catalyst-fr
 ee-radical-transformations
DTSTART:20260521T134500Z
DTEND:20260521T143000Z
LOCATION:Amphithéâtre Maurice Halbwachs\, Site Marcelin Berthelot
END:VEVENT
BEGIN:VEVENT
UID:cdf-event-a75cb7a4-52a3-4864-95c4-755f305a15e6
DTSTAMP:20260423T130733Z
SUMMARY:Electron Transfer-Mediated Photocatalytic Functionalizations for Ef
 ficient Organic Synthesis
DESCRIPTION:Informations complémentaires :\n- Intervenant(s) : Oleg Larion
 ov\n- Colloque: Transfert électronique II\n- Événement associé à :\n-
 - Louis Fensterbank\, chaire Activations en chimie moléculaire\n- Accès 
 : En libre accès\, dans la limite des places disponibles\n- Accéder à l
 a page de l'événement : https://www.college-de-france.fr/fr/agenda/collo
 que/transfert-electronique-ii/electron-transfer-mediated-photocatalytic-fu
 nctionalizations-for-efficient-organic-synthesis
DTSTART:20260521T145000Z
DTEND:20260521T153500Z
LOCATION:Amphithéâtre Maurice Halbwachs\, Site Marcelin Berthelot
END:VEVENT
BEGIN:VEVENT
UID:cdf-event-32fd3479-2f0d-4bfb-9c2f-366f1e85a172
DTSTAMP:20260423T130733Z
SUMMARY:Electron Transfer in Ball Mills
DESCRIPTION:Informations complémentaires :\n- Intervenant(s) : Carsten Bol
 m\n- Colloque: Transfert électronique II\n- Événement associé à :\n--
  Louis Fensterbank\, chaire Activations en chimie moléculaire\n- Accès :
  En libre accès\, dans la limite des places disponibles\n- Accéder à la
  page de l'événement : https://www.college-de-france.fr/fr/agenda/colloq
 ue/transfert-electronique-ii/electron-transfer-in-ball-mills
DTSTART:20260521T153500Z
DTEND:20260521T162000Z
LOCATION:Amphithéâtre Maurice Halbwachs\, Site Marcelin Berthelot
END:VEVENT
BEGIN:VEVENT
UID:cdf-event-a86ffa0b-dd9a-4d46-983f-54687e0c020b
DTSTAMP:20260423T130733Z
SUMMARY:Discussions & Conclusions
DESCRIPTION:Informations complémentaires :\n- Intervenant(s) : Louis Fenst
 erbank\n- Colloque: Transfert électronique II\n- Événement associé à 
 :\n-- Louis Fensterbank\, chaire Activations en chimie moléculaire\n- Acc
 ès : En libre accès\, dans la limite des places disponibles\n- Accéder 
 à la page de l'événement : https://www.college-de-france.fr/fr/agenda/c
 olloque/transfert-electronique-ii/discussions-conclusions
DTSTART:20260521T162000Z
DTEND:20260521T163000Z
LOCATION:Amphithéâtre Maurice Halbwachs\, Site Marcelin Berthelot
END:VEVENT
END:VCALENDAR
