BEGIN:VCALENDAR
PRODID:-//eluceo/ical//2.0/EN
VERSION:2.0
CALSCALE:GREGORIAN
BEGIN:VEVENT
UID:cdf-event-8a3c1d72-b089-43d9-a0c8-f1c77593c08f
DTSTAMP:20260425T142357Z
SUMMARY:Reductive Chemistry of Small Molecule Through Interplay of Electron
 -Rich Metal Species and Lewis Acids
DESCRIPTION:Informations complémentaires :\n- Intervenant(s) : Antoine Sim
 onneau\n- Colloque: Transfert électronique II\n- Événement associé à 
 :\n-- Louis Fensterbank\, chaire Activations en chimie moléculaire\n- Acc
 ès : En libre accès\, dans la limite des places disponibles\n- Accéder 
 à la page de l'événement : https://www.college-de-france.fr/fr/agenda/c
 olloque/transfert-electronique-ii/reductive-chemistry-of-small-molecule-th
 rough-interplay-of-electron-rich-metal-species-and-lewis
DTSTART:20260521T094500Z
DTEND:20260521T103000Z
LOCATION:Amphithéâtre Maurice Halbwachs\, Site Marcelin Berthelot
END:VEVENT
END:VCALENDAR
