BEGIN:VCALENDAR
PRODID:-//eluceo/ical//2.0/EN
VERSION:2.0
CALSCALE:GREGORIAN
BEGIN:VEVENT
UID:cdf-event-a8aa9243-3a52-45e9-b316-5244793e0646
DTSTAMP:20260419T115308Z
SUMMARY:Trashification
DESCRIPTION:Informations complémentaires :\n- Intervenant(s) : Juliana Uhu
 ru Bidadanure\n- Conférencier invité: Juliana Uhuru Bidadanure\n- Évén
 ement associé à :\n-- Samantha Besson\, chaire Droit international des i
 nstitutions\n- Accès : En libre accès\, dans la limite des places dispon
 ibles\n- Accéder à la page de l'événement : https://www.college-de-fra
 nce.fr/fr/agenda/conferencier-invite/juliana-uhuru-bidadanure/trashificati
 on
DTSTART:20260519T150000Z
DTEND:20260519T160000Z
LOCATION:Amphithéâtre Mireille Delmas-Marty (salle 5)\, Site Marcelin Ber
 thelot
END:VEVENT
END:VCALENDAR
