BEGIN:VCALENDAR
PRODID:-//eluceo/ical//2.0/EN
VERSION:2.0
CALSCALE:GREGORIAN
BEGIN:VEVENT
UID:cdf-event-1e07f2af-4928-4499-a196-8948593aacbb
DTSTAMP:20260421T150152Z
SUMMARY:Topologie et géométrie des états de Bloch
DESCRIPTION:Informations complémentaires :\n- Intervenant(s) : Antoine Geo
 rges\n- Cours: De l’effet Hall quantique aux matériaux moirés : topolo
 gie et géométrie des matériaux quantiques\n- Événement associé à :\
 n-- Antoine Georges\, chaire Physique de la matière condensée\n- Accès 
 : En libre accès\, dans la limite des places disponibles\n- Accéder à l
 a page de l'événement : https://www.college-de-france.fr/fr/agenda/cours
 /de-effet-hall-quantique-aux-materiaux-de-moire-topologie-et-geometrie-des
 -materiaux-quantiques/topologie-et-geometrie-des-etats-de-bloch
DTSTART:20260506T093000Z
DTEND:20260506T104500Z
LOCATION:Amphithéâtre Guillaume Budé\, Site Marcelin Berthelot
END:VEVENT
END:VCALENDAR
