BEGIN:VCALENDAR
PRODID:-//eluceo/ical//2.0/EN
VERSION:2.0
CALSCALE:GREGORIAN
BEGIN:VEVENT
UID:cdf-event-218bc83d-6a7d-405c-9044-5d25e7ed30a5
DTSTAMP:20260420T105221Z
SUMMARY:Matériaux moirés – introduction
DESCRIPTION:Informations complémentaires :\n- Intervenant(s) : Antoine Geo
 rges\n- Cours: De l’effet Hall quantique aux matériaux moirés : topolo
 gie et géométrie des matériaux quantiques\n- Événement associé à :\
 n-- Antoine Georges\, chaire Physique de la matière condensée\n- Accès 
 : En libre accès\, dans la limite des places disponibles\n- Accéder à l
 a page de l'événement : https://www.college-de-france.fr/fr/agenda/cours
 /de-effet-hall-quantique-aux-materiaux-moires-topologie-et-geometrie-des-m
 ateriaux-quantiques/materiaux-moires-introduction
DTSTART:20260527T073000Z
DTEND:20260527T091500Z
LOCATION:Amphithéâtre Guillaume Budé\, Site Marcelin Berthelot
END:VEVENT
END:VCALENDAR
