BEGIN:VCALENDAR
PRODID:-//eluceo/ical//2.0/EN
VERSION:2.0
CALSCALE:GREGORIAN
BEGIN:VEVENT
UID:cdf-event-9a68bd19-4c32-4fc0-b81f-188c49c1caea
DTSTAMP:20260422T165434Z
SUMMARY:L’écocatalyse\, une révolution verte et durable en chimie
DESCRIPTION:Informations complémentaires :\n- Intervenant(s) : Claude Gris
 on\n- Cours: Écologie scientifique et chimie du vivant : une symbiose au 
 cœur du développement durable\n- Événement associé à :\n-- Claude Gr
 ison\, chaire Avenir Commun Durable\n- Accès : En libre accès\, dans la 
 limite des places disponibles\n- Accéder à la page de l'événement : ht
 tps://www.college-de-france.fr/fr/agenda/cours/ecologie-scientifique-et-ch
 imie-du-vivant-une-symbiose-au-coeur-du-developpement-durable/ecocatalyse-
 une-revolution-verte-et-durable-en-chimie
DTSTART:20260519T080000Z
DTEND:20260519T090000Z
LOCATION:Amphithéâtre Maurice Halbwachs\, Site Marcelin Berthelot
END:VEVENT
END:VCALENDAR
