BEGIN:VCALENDAR
PRODID:-//eluceo/ical//2.0/EN
VERSION:2.0
CALSCALE:GREGORIAN
BEGIN:VEVENT
UID:cdf-event-aceece74-ccc3-4e9f-b25c-95d7af84928f
DTSTAMP:20260421T185751Z
SUMMARY:La restauration écologique des sols pollués et dégradés : des c
 apacités d’adaptation de plantes très inspirantes
DESCRIPTION:Informations complémentaires :\n- Intervenant(s) : Claude Gris
 on\n- Cours: Écologie scientifique et chimie du vivant : une symbiose au 
 cœur du développement durable\n- Événement associé à :\n-- Claude Gr
 ison\, chaire Avenir Commun Durable\n- Accès : En libre accès\, dans la 
 limite des places disponibles\n- Accéder à la page de l'événement : ht
 tps://www.college-de-france.fr/fr/agenda/cours/ecologie-scientifique-et-ch
 imie-du-vivant-une-symbiose-au-coeur-du-developpement-durable/la-restaurat
 ion-ecologique-des-sols-pollues-et-degrades-des-capacites-adaptation-de-pl
 antes-tres
DTSTART:20260505T080000Z
DTEND:20260505T090000Z
LOCATION:Amphithéâtre Maurice Halbwachs\, Site Marcelin Berthelot
END:VEVENT
END:VCALENDAR
