BEGIN:VCALENDAR
PRODID:-//eluceo/ical//2.0/EN
VERSION:2.0
CALSCALE:GREGORIAN
BEGIN:VEVENT
UID:cdf-event-16279752-a71b-4709-b1f7-0b02232a3903
DTSTAMP:20260425T160913Z
SUMMARY:La jonction Josephson et le double puits de potentiel 
DESCRIPTION:Informations complémentaires :\n- Intervenant(s) : Jean Daliba
 rd\n- Cours: Fluides quantiques couplés et jonctions Josephson\n- Événe
 ment associé à :\n-- Jean Dalibard\, chaire Atomes et rayonnement\n- Acc
 ès : En libre accès\, dans la limite des places disponibles\n- Accéder 
 à la page de l'événement : https://www.college-de-france.fr/fr/agenda/c
 ours/fluides-quantiques-couples-et-jonctions-josephson/la-jonction-josephs
 on-et-le-double-puits-de-potentiel
DTSTART:20260522T073000Z
DTEND:20260522T090000Z
LOCATION:Amphithéâtre Maurice Halbwachs\, Site Marcelin Berthelot
END:VEVENT
BEGIN:VEVENT
UID:cdf-event-84741c64-b64e-44ee-b2e7-c4ebaa251f70
DTSTAMP:20260425T160913Z
SUMMARY:Dynamique d'une jonction Josephson
DESCRIPTION:Informations complémentaires :\n- Intervenant(s) : Jean Daliba
 rd\n- Cours: Fluides quantiques couplés et jonctions Josephson\n- Événe
 ment associé à :\n-- Jean Dalibard\, chaire Atomes et rayonnement\n- Acc
 ès : En libre accès\, dans la limite des places disponibles\n- Accéder 
 à la page de l'événement : https://www.college-de-france.fr/fr/agenda/c
 ours/fluides-quantiques-couples-et-jonctions-josephson/dynamique-une-jonct
 ion-josephson
DTSTART:20260529T073000Z
DTEND:20260529T090000Z
LOCATION:Amphithéâtre Maurice Halbwachs\, Site Marcelin Berthelot
END:VEVENT
BEGIN:VEVENT
UID:cdf-event-07683074-9316-4e15-bd6c-cb238c43851f
DTSTAMP:20260425T160913Z
SUMMARY:L'effet Josephson alternatif et les résonances de Shapiro
DESCRIPTION:Informations complémentaires :\n- Intervenant(s) : Jean Daliba
 rd\n- Cours: Fluides quantiques couplés et jonctions Josephson\n- Événe
 ment associé à :\n-- Jean Dalibard\, chaire Atomes et rayonnement\n- Acc
 ès : En libre accès\, dans la limite des places disponibles\n- Accéder 
 à la page de l'événement : https://www.college-de-france.fr/fr/agenda/c
 ours/fluides-quantiques-couples-et-jonctions-josephson/effet-josephson-alt
 ernatif-et-les-resonances-de-shapiro
DTSTART:20260605T073000Z
DTEND:20260605T090000Z
LOCATION:Amphithéâtre Maurice Halbwachs\, Site Marcelin Berthelot
END:VEVENT
BEGIN:VEVENT
UID:cdf-event-a7c9b082-be0a-4f48-9997-b550d3310a30
DTSTAMP:20260425T160913Z
SUMMARY:Les jonctions atomiques internes
DESCRIPTION:Informations complémentaires :\n- Intervenant(s) : Jean Daliba
 rd\n- Cours: Fluides quantiques couplés et jonctions Josephson\n- Événe
 ment associé à :\n-- Jean Dalibard\, chaire Atomes et rayonnement\n- Acc
 ès : En libre accès\, dans la limite des places disponibles\n- Accéder 
 à la page de l'événement : https://www.college-de-france.fr/fr/agenda/c
 ours/fluides-quantiques-couples-et-jonctions-josephson/les-jonctions-atomi
 ques-internes
DTSTART:20260612T073000Z
DTEND:20260612T090000Z
LOCATION:Amphithéâtre Maurice Halbwachs\, Site Marcelin Berthelot
END:VEVENT
BEGIN:VEVENT
UID:cdf-event-bc522197-edc3-4d5b-9ee7-9249dae7627a
DTSTAMP:20260425T160913Z
SUMMARY:Les condensats fragmentés
DESCRIPTION:Informations complémentaires :\n- Intervenant(s) : Jean Daliba
 rd\n- Cours: Fluides quantiques couplés et jonctions Josephson\n- Événe
 ment associé à :\n-- Jean Dalibard\, chaire Atomes et rayonnement\n- Acc
 ès : En libre accès\, dans la limite des places disponibles\n- Accéder 
 à la page de l'événement : https://www.college-de-france.fr/fr/agenda/c
 ours/fluides-quantiques-couples-et-jonctions-josephson/les-condensats-frag
 mentes
DTSTART:20260619T073000Z
DTEND:20260619T090000Z
LOCATION:Amphithéâtre Guillaume Budé\, Site Marcelin Berthelot
END:VEVENT
BEGIN:VEVENT
UID:cdf-event-d1cdd72e-f795-4ae6-aa91-67d6b9824b35
DTSTAMP:20260425T160913Z
SUMMARY:Du SQUID supraconducteur au SQUID atomique
DESCRIPTION:Informations complémentaires :\n- Intervenant(s) : Jean Daliba
 rd\n- Cours: Fluides quantiques couplés et jonctions Josephson\n- Événe
 ment associé à :\n-- Jean Dalibard\, chaire Atomes et rayonnement\n- Acc
 ès : En libre accès\, dans la limite des places disponibles\n- Accéder 
 à la page de l'événement : https://www.college-de-france.fr/fr/agenda/c
 ours/fluides-quantiques-couples-et-jonctions-josephson/du-squid-supracondu
 cteur-au-squid-atomique
DTSTART:20260626T073000Z
DTEND:20260626T090000Z
LOCATION:Amphithéâtre Guillaume Budé\, Site Marcelin Berthelot
END:VEVENT
END:VCALENDAR
