BEGIN:VCALENDAR
PRODID:-//eluceo/ical//2.0/EN
VERSION:2.0
CALSCALE:GREGORIAN
BEGIN:VEVENT
UID:cdf-event-1da754ea-85ed-4cd2-9a5d-0b0aec59a5cd
DTSTAMP:20260422T054956Z
SUMMARY:Critique
DESCRIPTION:Informations complémentaires :\n- Intervenant(s) : Didier Fass
 in\n- Cours: Présences de Foucault\n- Événement associé à :\n-- Didie
 r Fassin\, chaire Questions morales et enjeux politiques dans les sociét
 és contemporaines\n- Accès : En libre accès\, dans la limite des places
  disponibles\n- Accéder à la page de l'événement : https://www.college
 -de-france.fr/fr/agenda/cours/presences-de-foucault/critique
DTSTART:20260505T131500Z
DTEND:20260505T141500Z
LOCATION:Amphithéâtre Marguerite de Navarre\, Site Marcelin Berthelot
END:VEVENT
END:VCALENDAR
