BEGIN:VCALENDAR
PRODID:-//eluceo/ical//2.0/EN
VERSION:2.0
CALSCALE:GREGORIAN
BEGIN:VEVENT
UID:cdf-event-29a66cd7-92a2-4db7-bb5c-df61403a5c41
DTSTAMP:20260420T163828Z
SUMMARY:Humanisme
DESCRIPTION:Informations complémentaires :\n- Intervenant(s) : Didier Fass
 in\n- Cours: Présences de Foucault\n- Événement associé à :\n-- Didie
 r Fassin\, chaire Questions morales et enjeux politiques dans les sociét
 és contemporaines\n- Accès : En libre accès\, dans la limite des places
  disponibles\n- Accéder à la page de l'événement : https://www.college
 -de-france.fr/fr/agenda/cours/presences-de-foucault/humanisme
DTSTART:20260519T131500Z
DTEND:20260519T141500Z
LOCATION:Amphithéâtre Marguerite de Navarre\, Site Marcelin Berthelot
END:VEVENT
END:VCALENDAR
