BEGIN:VCALENDAR
PRODID:-//eluceo/ical//2.0/EN
VERSION:2.0
CALSCALE:GREGORIAN
BEGIN:VEVENT
UID:cdf-event-103120e6-a03b-41f7-ab11-4234073891f4
DTSTAMP:20260420T084834Z
SUMMARY:Politique
DESCRIPTION:Informations complémentaires :\n- Intervenant(s) : Didier Fass
 in\n- Cours: Présences de Foucault\n- Événement associé à :\n-- Didie
 r Fassin\, chaire Questions morales et enjeux politiques dans les sociét
 és contemporaines\n- Accès : En libre accès\, dans la limite des places
  disponibles\n- Accéder à la page de l'événement : https://www.college
 -de-france.fr/fr/agenda/cours/presences-de-foucault/politique
DTSTART:20260526T131500Z
DTEND:20260526T141500Z
LOCATION:Amphithéâtre Marguerite de Navarre\, Site Marcelin Berthelot
END:VEVENT
END:VCALENDAR
